BEGIN:VCALENDAR
VERSION:2.0
PRODID:-//National Cohesion and Values - ECPv5.14.0.4//NONSGML v1.0//EN
CALSCALE:GREGORIAN
METHOD:PUBLISH
X-WR-CALNAME:National Cohesion and Values
X-ORIGINAL-URL:https://www.cohesionandvalues.go.ke
X-WR-CALDESC:Events for National Cohesion and Values
BEGIN:VTIMEZONE
TZID:Europe/Moscow
BEGIN:STANDARD
TZOFFSETFROM:+0300
TZOFFSETTO:+0300
TZNAME:MSK
DTSTART:20190101T000000
END:STANDARD
END:VTIMEZONE
BEGIN:VEVENT
DTSTART;VALUE=DATE:20190506
DTEND;VALUE=DATE:20190511
DTSTAMP:20260420T132338
CREATED:20190416T124816Z
LAST-MODIFIED:20190507T074940Z
UID:1196-1557100800-1557532799@www.cohesionandvalues.go.ke
SUMMARY:Focal Point Persons Training
DESCRIPTION:The Directorate will undertake training for focal point persons from MDAs on mainstreaming\, monitoring and reporting through performance contract on national values and national cohesion. The training will take place from 6th to 10th May\, 2019 at Kenya School of Government in Mombasa.
URL:https://www.cohesionandvalues.go.ke/event/focal-point-persons-training/
END:VEVENT
END:VCALENDAR