BEGIN:VCALENDAR
VERSION:2.0
PRODID:-//National Cohesion and Values - ECPv5.14.0.4//NONSGML v1.0//EN
CALSCALE:GREGORIAN
METHOD:PUBLISH
X-WR-CALNAME:National Cohesion and Values
X-ORIGINAL-URL:https://www.cohesionandvalues.go.ke
X-WR-CALDESC:Events for National Cohesion and Values
BEGIN:VTIMEZONE
TZID:Europe/Moscow
BEGIN:STANDARD
TZOFFSETFROM:+0300
TZOFFSETTO:+0300
TZNAME:MSK
DTSTART:20190101T000000
END:STANDARD
END:VTIMEZONE
BEGIN:VEVENT
DTSTART;VALUE=DATE:20190401
DTEND;VALUE=DATE:20190701
DTSTAMP:20260420T125630
CREATED:20190416T124623Z
LAST-MODIFIED:20190416T124623Z
UID:1193-1554076800-1561939199@www.cohesionandvalues.go.ke
SUMMARY:MDAs Sensitisation
DESCRIPTION:The Directorate will undertake training and sensitization of MDAs on national cohesion and national values
URL:https://www.cohesionandvalues.go.ke/event/mdas-sensitisation/
LOCATION:Nairobi\, Kenya
END:VEVENT
END:VCALENDAR